BEGIN:VCALENDAR
VERSION:2.0
PRODID:icalendar-ruby
CALSCALE:GREGORIAN
METHOD:PUBLISH
BEGIN:VEVENT
DTSTAMP:20260424T001011Z
UID:108-642789@awakenrome.com
DTSTART:20261007T223000Z
DTEND:20261007T233000Z
CLASS:PUBLIC
CREATED:20260423T183120
DESCRIPTION:Your Kingdom Come is a deep-dive\, verse-by-verse Bible study t
 hrough the Gospel of Matthew\, exploring Jesus’ teaching on the Kingdom 
 of God and what it means to live under His reign. Together\, we will exami
 ne the words\, context\, and themes of Matthew’s Gospel to better unders
 tand who Jesus is\, why He came\, and how His Kingdom shapes our faith\, o
 bedience\, and daily lives. This study is designed to deepen biblical unde
 rstanding and inspire faithful Kingdom living.
LAST-MODIFIED:20260423T183120
LOCATION:
SUMMARY:Deep Dive Bible Study with Pastor
URL;VALUE=URI:https://www.awakenrome.com/events/deep-dive-bible-study-with-
 pastor/2026-10-07
ATTACH;FILENAME=Your-Kingdom-Come.png;FMTTYPE=image/png:https://dq5pwpg1q8r
 u0.cloudfront.net/2026/01/07/16/44/34/0c96990a-bf2a-4bda-9f73-47e4e0d15c44
 /Your-Kingdom-Come.png
END:VEVENT
END:VCALENDAR
