BEGIN:VCALENDAR
VERSION:2.0
PRODID:icalendar-ruby
CALSCALE:GREGORIAN
METHOD:PUBLISH
BEGIN:VEVENT
DTSTAMP:20260419T122542Z
UID:67-466483@awakenrome.com
DTSTART:20260502T130000Z
DTEND:20260502T140000Z
CLASS:PUBLIC
CREATED:20260107T115625
DESCRIPTION:A Men’s Breakfast is a relaxed and welcoming gathering where 
 men of the church come together over a shared meal to build relationships\
 , encourage one another\, and grow in faith. It provides an opportunity fo
 r conversation\, prayer\, and spiritual encouragement in a casual setting\
 , helping men strengthen friendships\, support one another\, and be equipp
 ed to live out their faith in their homes\, workplaces\, and community.
LAST-MODIFIED:20260107T115625
LOCATION:At the Church
SUMMARY:Men's Breakfast
URL;VALUE=URI:https://www.awakenrome.com/events/mens-breakfast--67/2026-05-
 02
ATTACH;FILENAME=Mens-Breakfast-Rustic-Bacon-Eggs---Subtitle.jpg;FMTTYPE=ima
 ge/jpeg:https://dq5pwpg1q8ru0.cloudfront.net/2023/11/21/10/43/50/240a445e-
 5781-4e1a-aacc-c3df26ef191f/Mens-Breakfast-Rustic-Bacon-Eggs---Subtitle.jp
 g
END:VEVENT
END:VCALENDAR
